BEGIN:VCALENDAR
VERSION:2.0
PRODID:-//Barnplantorna - ECPv5.1.4//NONSGML v1.0//EN
CALSCALE:GREGORIAN
METHOD:PUBLISH
X-WR-CALNAME:Barnplantorna
X-ORIGINAL-URL:http://www.barnplantorna.se
X-WR-CALDESC:Händelser för Barnplantorna
BEGIN:VTIMEZONE
TZID:Europe/Stockholm
BEGIN:DAYLIGHT
TZOFFSETFROM:+0100
TZOFFSETTO:+0200
TZNAME:CEST
DTSTART:20250330T010000
END:DAYLIGHT
BEGIN:STANDARD
TZOFFSETFROM:+0200
TZOFFSETTO:+0100
TZNAME:CET
DTSTART:20251026T010000
END:STANDARD
END:VTIMEZONE
BEGIN:VEVENT
DTSTART;VALUE=DATE:20250611
DTEND;VALUE=DATE:20250615
DTSTAMP:20260423T144659
CREATED:20241118T090000Z
LAST-MODIFIED:20241118T090000Z
UID:6507-1749600000-1749945599@www.barnplantorna.se
SUMMARY:ESPCI 2025 Hannover Tyskland
DESCRIPTION:European Symposium Pediatric Cochlear Implantation – ESPCI 2025\nESPCI 2024 gick av stapeln i Rotterdam/Nederländerna. ESPCI 2025 kommer att avhållas i Hannover/Tyskland. \nHannover startade tidigt med CI-operationer\, redan 1984 och har fram tills nu implanterat över 10 000 vuxna och barn. Det är världens största CI-behandlande program. Redan 1988 CI-opererades det första barnet i Hannover. \nProgram aviseras i början av 2025. Håll utkik \nhttps://www.espci2025.org/ \n  \n
URL:http://www.barnplantorna.se/event/espci-2025-hannover-tyskland/
ATTACH;FMTTYPE=image/jpeg:http://www.barnplantorna.se/wp-content/uploads/2024/11/ESPCI-2025-Hannover.jpg
END:VEVENT
END:VCALENDAR