BEGIN:VCALENDAR
VERSION:2.0
PRODID:-//Barnplantorna - ECPv5.1.4//NONSGML v1.0//EN
CALSCALE:GREGORIAN
METHOD:PUBLISH
X-WR-CALNAME:Barnplantorna
X-ORIGINAL-URL:http://www.barnplantorna.se
X-WR-CALDESC:Händelser för Barnplantorna
BEGIN:VTIMEZONE
TZID:Europe/Stockholm
BEGIN:DAYLIGHT
TZOFFSETFROM:+0100
TZOFFSETTO:+0200
TZNAME:CEST
DTSTART:20250330T010000
END:DAYLIGHT
BEGIN:STANDARD
TZOFFSETFROM:+0200
TZOFFSETTO:+0100
TZNAME:CET
DTSTART:20251026T010000
END:STANDARD
END:VTIMEZONE
BEGIN:VEVENT
DTSTART;VALUE=DATE:20250912
DTEND;VALUE=DATE:20250914
DTSTAMP:20260423T173827
CREATED:20250225T114020Z
LAST-MODIFIED:20250225T114115Z
UID:6708-1757635200-1757807999@www.barnplantorna.se
SUMMARY:BARNPLANTORNAS Jubileumskonferens 2025
DESCRIPTION:Barnplantorna firar trettio år..\nJubileums konferens. Från hörselnedsättning till cochleaimplantat med passion att höra och höra till\nRegistrering möjlig från den 3 mars. Läs mer om konferensen\, program och föreläsare https://www.barnplantorna.se/jubileumskonferens-2025/ \nMöt oss på Clarion Hotell Post i Göteborg! \n  \n
URL:http://www.barnplantorna.se/event/barnplantornas-jubileumskonferens/
ATTACH;FMTTYPE=image/jpeg:http://www.barnplantorna.se/wp-content/uploads/2025/02/barnplantorna-jubileum-konferens-2025-2.jpg
END:VEVENT
END:VCALENDAR